BEGIN:VCALENDAR
VERSION:2.0
CALSCALE:GREGORIAN
PRODID:-//Diputació de Barcelona//DibaCMS//EN
BEGIN:VEVENT
UID:5236
DTSTAMP:20260424T073326
DTSTART:20120703T000000
DTEND:20130703T000000
SUMMARY:Jaume Bonallach (PP) demana a l'equip de govern un major impuls en participació ciutadana
LOCATION:
METHOD:PUBLISH
X-WR-CALNAME:llagosta@llagosta.cat
X-WR-TIMEZONE:Europe/Madrid
DESCRIPTION:El portaveu del grup municipal del Partit Popular a l'Ajuntament de la Llagosta, Jaume Bonallach, considera que l'equip de govern hauria d'impulsar més la participació ciutadana i la transparència. En una entrevista que emet avui Ràdio La Llagosta, Bonallach ha demanat al govern local i al PSC que es deixin d'enfrontaments i treballin per al poble.
URI:https://www.llagosta.cat/actualitat/noticies/jaume-bonallach-pp-demana-a-lequip-de-govern-un-major-impuls-en-participacio-ciutadana.html
CLASS:PUBLIC
END:VEVENT
END:VCALENDAR
