BEGIN:VCALENDAR
VERSION:2.0
CALSCALE:GREGORIAN
PRODID:-//Diputació de Barcelona//DibaCMS//EN
BEGIN:VEVENT
UID:5235
DTSTAMP:20260423T153046
DTSTART:20120703T000000
DTEND:20130703T000000
SUMMARY:Felip Puig va participar ahir en una trobada organitzada per CiU de la Llagosta
LOCATION:
METHOD:PUBLISH
X-WR-CALNAME:llagosta@llagosta.cat
X-WR-TIMEZONE:Europe/Madrid
DESCRIPTION:El conseller d'Interior, Felip Puig, va participar ahir en una trobada amb militants i simpatitzants de Convergència Democràtica de Catalunya a la Llagosta. Puig va conversar amb els assistents sobre diversos temes d'actualitat, destacant la situació de crisi econòmica. L'acte va comptar amb la presència d'unes 25 persones.
URI:https://www.llagosta.cat/actualitat/noticies/felip-puig-va-participar-ahir-en-una-trobada-organitzada-per-ciu-de-la-llagosta.html
CLASS:PUBLIC
END:VEVENT
END:VCALENDAR
