BEGIN:VCALENDAR
VERSION:2.0
CALSCALE:GREGORIAN
PRODID:-//Diputació de Barcelona//DibaCMS//EN
BEGIN:VEVENT
UID:5234
DTSTAMP:20260424T073439
DTSTART:20120703T000000
DTEND:20130703T000000
SUMMARY:Veus de Dona organitza a partir de demà un taller de Dansa en família
LOCATION:
METHOD:PUBLISH
X-WR-CALNAME:llagosta@llagosta.cat
X-WR-TIMEZONE:Europe/Madrid
DESCRIPTION:Demà, començaran les sessions del taller de Dansa en família. L'activitat es desenvoluparà a l'Escola Joan Maragall cada dimecres, de set a vuit de la tarda. Dansa en família forma part de la programació Estiu 2012. L'activitat està organitzada per l'associació Veus de Dona. 
URI:https://www.llagosta.cat/actualitat/noticies/veus-de-dona-organitza-a-partir-de-dema-un-taller-de-dansa-en-familia.html
CLASS:PUBLIC
END:VEVENT
END:VCALENDAR
