BEGIN:VCALENDAR
VERSION:2.0
CALSCALE:GREGORIAN
PRODID:-//Diputació de Barcelona//DibaCMS//EN
BEGIN:VEVENT
UID:5233
DTSTAMP:20260423T141258
DTSTART:20120703T000000
DTEND:20130703T000000
SUMMARY:Demà, hi haurà un punt d'ITV a la Llagosta per a ciclomotors, tractors i remolcs agrícoles
LOCATION:
METHOD:PUBLISH
X-WR-CALNAME:llagosta@llagosta.cat
X-WR-TIMEZONE:Europe/Madrid
DESCRIPTION:Les persones propietàries de ciclomotors, tractors i remolcs agrícoles tindran l'oportunitat de passar la Inspecció Tècnica de Vehicles (ITV) durant la visita que farà a la Llagosta demà una unitat mòbil de l'empresa concessionària d'aquest servei a Catalunya, Applus+. Qui estigui interessat ha de demanar hora a l'Oficina d'Atenció a la Ciutadania (OAC) de l'Ajuntament de la Llagosta.
URI:https://www.llagosta.cat/actualitat/noticies/dema-hi-haura-un-punt-ditv-a-la-llagosta-per-a-ciclomotors-tractors-i-remolcs-agricoles.html
CLASS:PUBLIC
END:VEVENT
END:VCALENDAR
