BEGIN:VCALENDAR
VERSION:2.0
CALSCALE:GREGORIAN
PRODID:-//Diputació de Barcelona//DibaCMS//EN
BEGIN:VEVENT
UID:5232
DTSTAMP:20260424T041622
DTSTART:20120703T000000
DTEND:20130703T000000
SUMMARY:Estela García, campiona d'Espanya en la modalitat equip de natació sincronitzada
LOCATION:
METHOD:PUBLISH
X-WR-CALNAME:llagosta@llagosta.cat
X-WR-TIMEZONE:Europe/Madrid
DESCRIPTION:L'esportista de la Llagosta Estela García es va proclamar el cap de setmana passat campiona d'Espanya d'estiu de natació sincronitzada de categoria infantil en la modalitat equip amb el Club Natació Granollers. En aquesta competició, celebrada a Castelló, García va obtenir també el bronze en combo. A més, va ser cinquena en duo. 
URI:https://www.llagosta.cat/actualitat/noticies/estela-garcia-campiona-despanya-en-la-modalitat-equip-de-natacio-sincronitzada.html
CLASS:PUBLIC
END:VEVENT
END:VCALENDAR
