BEGIN:VCALENDAR
VERSION:2.0
CALSCALE:GREGORIAN
PRODID:-//Diputació de Barcelona//DibaCMS//EN
BEGIN:VEVENT
UID:5231
DTSTAMP:20260424T035939
DTSTART:20120703T000000
DTEND:19670526T000000
SUMMARY:Els campions d'Espanya juvenils del FS Iniciativa van rebre un homenatge dissabte
LOCATION:
METHOD:PUBLISH
X-WR-CALNAME:llagosta@llagosta.cat
X-WR-TIMEZONE:Europe/Madrid
DESCRIPTION:El Poliesportiu Riera Seca va acollir dissabte l'homenatge als jugadors del Futbol Sala Iniciativa que ara fa 20 anys van aconseguir el Campionat d'Espanya de categoria juvenil. L'acte va ser organitzat per l'Agrupació local d'Iniciativa per Catalunya Verds. 
URI:https://www.llagosta.cat/actualitat/noticies/els-campions-despanya-juvenils-del-fs-iniciativa-van-rebre-un-homenatge-dissabte.html
CLASS:PUBLIC
END:VEVENT
END:VCALENDAR
