BEGIN:VCALENDAR
VERSION:2.0
CALSCALE:GREGORIAN
PRODID:-//Diputació de Barcelona//DibaCMS//EN
BEGIN:VEVENT
UID:5230
DTSTAMP:20260423T133841
DTSTART:20120702T000000
DTEND:20130702T000000
SUMMARY:El Club Deportivo La Concòrdia suspèn el campus esportiu per falta d'inscripcions
LOCATION:
METHOD:PUBLISH
X-WR-CALNAME:llagosta@llagosta.cat
X-WR-TIMEZONE:Europe/Madrid
DESCRIPTION:El Club Deportivo La Concòrdia ha suspès finalment el campus esportiu que havia de començar avui. L'activitat no ha comptat amb les inscripcions suficients per poder tirar-la endavant.
URI:https://www.llagosta.cat/actualitat/noticies/el-club-deportivo-la-concordia-suspen-el-campus-esportiu-per-falta-dinscripcions.html
CLASS:PUBLIC
END:VEVENT
END:VCALENDAR
