BEGIN:VCALENDAR
VERSION:2.0
CALSCALE:GREGORIAN
PRODID:-//Diputació de Barcelona//DibaCMS//EN
BEGIN:VEVENT
UID:5229
DTSTAMP:20260424T073634
DTSTART:20120702T000000
DTEND:20130702T000000
SUMMARY:Imputades tres persones per la Policia Local per un furt a un comerç de la Llagosta
LOCATION:
METHOD:PUBLISH
X-WR-CALNAME:llagosta@llagosta.cat
X-WR-TIMEZONE:Europe/Madrid
DESCRIPTION:La Policia Local de la Llagosta ha imputat tres persones per un furt a un establiment del carrer de Sant Josep. Els fets van passar dissabte al voltant de les sis de tarda. Es dóna la circumstància que aquestes mateixes persones ja van sostreure material fa uns dies al mateix comerç.
URI:https://www.llagosta.cat/actualitat/noticies/imputades-tres-persones-per-la-policia-local-per-un-furt-a-un-comerc-de-la-llagosta.html
CLASS:PUBLIC
END:VEVENT
END:VCALENDAR
