BEGIN:VCALENDAR
VERSION:2.0
CALSCALE:GREGORIAN
PRODID:-//Diputació de Barcelona//DibaCMS//EN
BEGIN:VEVENT
UID:5228
DTSTAMP:20260423T135000
DTSTART:20120702T000000
DTEND:20130702T000000
SUMMARY:Les activitats infantils de la programació d'estiu continuen aquesta setmana
LOCATION:
METHOD:PUBLISH
X-WR-CALNAME:llagosta@llagosta.cat
X-WR-TIMEZONE:Europe/Madrid
DESCRIPTION:Aquesta setmana continuen les activitats infantils del programa Estiu 2012. El Parc Popular ha acollit aquest matí jocs per compartir de gran format, una activitat que es repetirà el proper dilluns, 9 de juliol, d'onze a dos quarts de dues del matí.
URI:https://www.llagosta.cat/actualitat/noticies/les-activitats-infantils-de-la-programacio-destiu-continuen-aquesta-setmana.html
CLASS:PUBLIC
END:VEVENT
END:VCALENDAR
