BEGIN:VCALENDAR
VERSION:2.0
CALSCALE:GREGORIAN
PRODID:-//Diputació de Barcelona//DibaCMS//EN
BEGIN:VEVENT
UID:5227
DTSTAMP:20260424T022347
DTSTART:20120702T000000
DTEND:20130702T000000
SUMMARY:Adelino Macías (CPLL) destaca les opcions d'èxit que té el municipi de la Llagosta
LOCATION:
METHOD:PUBLISH
X-WR-CALNAME:llagosta@llagosta.cat
X-WR-TIMEZONE:Europe/Madrid
DESCRIPTION:El regidor de Ciutadans Progressistes per la Llagosta, Adelino Macías, ha explicat avui que l'equip de govern està fent les coses d'una forma més propera i rigorosa. Macías està convençut que la Llagosta té opcions d'èxit, que es traduiran en la implantació de nova activitat econòmica en un futur proper.
URI:https://www.llagosta.cat/actualitat/noticies/adelino-macias-cpll-destaca-les-opcions-dexit-que-te-el-municipi-de-la-llagosta.html
CLASS:PUBLIC
END:VEVENT
END:VCALENDAR
