BEGIN:VCALENDAR
VERSION:2.0
CALSCALE:GREGORIAN
PRODID:-//Diputació de Barcelona//DibaCMS//EN
BEGIN:VEVENT
UID:5225
DTSTAMP:20260424T024009
DTSTART:20120702T000000
DTEND:20130712T000000
SUMMARY:Més de 300 persones van seguir la victòria d'Espanya a l'Eurocopa al Centre Cultural
LOCATION:
METHOD:PUBLISH
X-WR-CALNAME:llagosta@llagosta.cat
X-WR-TIMEZONE:Europe/Madrid
DESCRIPTION:El Centre Cultural de la Llagosta es va omplir ahir durant la celebració de la final de l'Eurocopa entre Espanya i Itàlia. L'Ajuntament va decidir obrir aquest equipament per tal de poder veure en pantalla gegant el partit. Més de 300 persones van anar-hi.
URI:https://www.llagosta.cat/actualitat/noticies/mes-de-300-persones-van-seguir-la-victoria-despanya-a-leurocopa-al-centre-cultural.html
CLASS:PUBLIC
END:VEVENT
END:VCALENDAR
