BEGIN:VCALENDAR
VERSION:2.0
CALSCALE:GREGORIAN
PRODID:-//Diputació de Barcelona//DibaCMS//EN
BEGIN:VEVENT
UID:5224
DTSTAMP:20260423T141450
DTSTART:20120629T000000
DTEND:20130629T000000
SUMMARY:Demà, es faran diversos actes per celebrar els 20 anys del títol d'Espanya del FS Iniciativa
LOCATION:
METHOD:PUBLISH
X-WR-CALNAME:llagosta@llagosta.cat
X-WR-TIMEZONE:Europe/Madrid
DESCRIPTION:L'Agrupació Local d'Iniciativa per Catalunya Verds commemorarà demà el Campionat d'Espanya aconseguit pel Futbol Sala Iniciativa ara fa 20 anys. Iniciativa retrà homenatge als jugadors, tècnics i directius que van assolir el títol l'any 1992 a Benidorm.
URI:https://www.llagosta.cat/actualitat/noticies/dema-es-faran-diversos-actes-per-celebrar-els-20-anys-del-titol-despanya-del-fs-iniciativa.html
CLASS:PUBLIC
END:VEVENT
END:VCALENDAR
