BEGIN:VCALENDAR
VERSION:2.0
CALSCALE:GREGORIAN
PRODID:-//Diputació de Barcelona//DibaCMS//EN
BEGIN:VEVENT
UID:5223
DTSTAMP:20260424T054005
DTSTART:20120629T000000
DTEND:20130629T000000
SUMMARY:La Coral Miranda farà demà el seu concert de fi de temporada al Centre Cultural
LOCATION:
METHOD:PUBLISH
X-WR-CALNAME:llagosta@llagosta.cat
X-WR-TIMEZONE:Europe/Madrid
DESCRIPTION:La Coral Miranda de la Llagosta celebrarà demà el concert de fi de temporada. El recital començarà a les vuit del vespre i tindrà lloc al Centre Cultural de la plaça de l'Alcalde Sisó Pons.
URI:https://www.llagosta.cat/actualitat/noticies/la-coral-miranda-fara-dema-el-seu-concert-de-fi-de-temporada-al-centre-cultural.html
CLASS:PUBLIC
END:VEVENT
END:VCALENDAR
