BEGIN:VCALENDAR
VERSION:2.0
CALSCALE:GREGORIAN
PRODID:-//Diputació de Barcelona//DibaCMS//EN
BEGIN:VEVENT
UID:5222
DTSTAMP:20260424T054158
DTSTART:20120629T000000
DTEND:20130629T000000
SUMMARY:Una quarantena d'associacions participaran demà en la primera Mostra d'Entitats
LOCATION:
METHOD:PUBLISH
X-WR-CALNAME:llagosta@llagosta.cat
X-WR-TIMEZONE:Europe/Madrid
DESCRIPTION:La Llagosta celebrarà demà la seva primera Mostra d'Entitats. Una quarantena d'associacions, clubs i col·lectius prenen part en aquesta iniciativa, que vol donar a conèixer el teixit associatiu de la nostra localitat. L'escenari principal de la Mostra serà el Parc Popular.
URI:https://www.llagosta.cat/actualitat/noticies/una-quarantena-dassociacions-participaran-dema-en-la-primera-mostra-dentitats.html
CLASS:PUBLIC
END:VEVENT
END:VCALENDAR
