BEGIN:VCALENDAR
VERSION:2.0
CALSCALE:GREGORIAN
PRODID:-//Diputació de Barcelona//DibaCMS//EN
BEGIN:VEVENT
UID:5221
DTSTAMP:20260424T043019
DTSTART:20120629T000000
DTEND:20130629T000000
SUMMARY:Durant els mesos de juliol i agost, l'OAC només obrirà en horari de matí
LOCATION:
METHOD:PUBLISH
X-WR-CALNAME:llagosta@llagosta.cat
X-WR-TIMEZONE:Europe/Madrid
DESCRIPTION:L'Oficina d'Atenció a la Ciutadania (OAC) iniciarà dilluns l'horari d'estiu, obrint de dilluns a divendres al matí, de dos quarts de nou a dues. Així, durant els mesos de juliol i agost no obrirà cap tarda. L'horari habitual, és a dir als matins de dilluns a divendres i els dimarts i dijous de quatre a vuit de la tarda, tornarà el mes de setembre. 
URI:https://www.llagosta.cat/actualitat/noticies/durant-els-mesos-de-juliol-i-agost-loac-nomes-obrira-en-horari-de-mati.html
CLASS:PUBLIC
END:VEVENT
END:VCALENDAR
