BEGIN:VCALENDAR
VERSION:2.0
CALSCALE:GREGORIAN
PRODID:-//Diputació de Barcelona//DibaCMS//EN
BEGIN:VEVENT
UID:5220
DTSTAMP:20260423T172013
DTSTART:20120629T000000
DTEND:20130629T000000
SUMMARY:El ple aprova un increment d'un 38% de la tarifa de la guarderia municipal Cucutras
LOCATION:
METHOD:PUBLISH
X-WR-CALNAME:llagosta@llagosta.cat
X-WR-TIMEZONE:Europe/Madrid
DESCRIPTION:L'Ajuntament de la Llagosta va aprovar ahir durant el ple ordinari del mes de juny les noves tarifes de l'Escola Bressol Municipal Cucutras amb el vot a favor dels tres grups de l'equip de govern (ICV-EUiA, CiU i CPLL) i en contra de l'oposició (PSC i PP). El proper curs, la tarifa per alumne serà de prop de 160 euros al mes, uns 44 més que aquest any. 
URI:https://www.llagosta.cat/actualitat/noticies/el-ple-aprova-un-increment-dun-38-de-la-tarifa-de-la-guarderia-municipal-cucutras.html
CLASS:PUBLIC
END:VEVENT
END:VCALENDAR
