BEGIN:VCALENDAR
VERSION:2.0
CALSCALE:GREGORIAN
PRODID:-//Diputació de Barcelona//DibaCMS//EN
BEGIN:VEVENT
UID:5219
DTSTAMP:20260423T191924
DTSTART:20120628T000000
DTEND:20130628T000000
SUMMARY:Demà a la tarda, hi haurà cinema al Punt de Trobada Jove, a Can Pelegrí
LOCATION:
METHOD:PUBLISH
X-WR-CALNAME:llagosta@llagosta.cat
X-WR-TIMEZONE:Europe/Madrid
DESCRIPTION:La Regidoria de Joventut organitzarà demà una sessió de cinema al Punt de Trobada Jove, al Centre Cultural i Juvenil Can Pelegrí. L'activitat començarà a les sis de la tarda. 
URI:https://www.llagosta.cat/actualitat/noticies/dema-a-la-tarda-hi-haura-cinema-al-punt-de-trobada-jove-a-can-pelegri.html
CLASS:PUBLIC
END:VEVENT
END:VCALENDAR
