BEGIN:VCALENDAR
VERSION:2.0
CALSCALE:GREGORIAN
PRODID:-//Diputació de Barcelona//DibaCMS//EN
BEGIN:VEVENT
UID:5218
DTSTAMP:20260423T184341
DTSTART:20120628T000000
DTEND:20130628T000000
SUMMARY:L'Ajuntament aprovarà avui, durant un ple, els nous preus públics de la guarderia municipal
LOCATION:
METHOD:PUBLISH
X-WR-CALNAME:llagosta@llagosta.cat
X-WR-TIMEZONE:Europe/Madrid
DESCRIPTION:L'Ajuntament de la Llagosta aprovarà aquesta tarda en sessió plenària les tarifes de l'Escola Bressol Municipal Cucutras. El proper curs, la tarifa per alumne serà de prop de 160 euros al mes, uns 44 més que aquest any. El ple d'avui començarà a les set de la tarda.
URI:https://www.llagosta.cat/actualitat/noticies/lajuntament-aprovara-avui-durant-un-ple-els-nous-preus-publics-de-la-guarderia-municipal.html
CLASS:PUBLIC
END:VEVENT
END:VCALENDAR
