BEGIN:VCALENDAR
VERSION:2.0
CALSCALE:GREGORIAN
PRODID:-//Diputació de Barcelona//DibaCMS//EN
BEGIN:VEVENT
UID:5217
DTSTAMP:20260424T004724
DTSTART:20120628T000000
DTEND:20130628T000000
SUMMARY:La final de l'Eurocopa es podrà veure diumenge en pantalla gegant al Centre Cultural
LOCATION:
METHOD:PUBLISH
X-WR-CALNAME:llagosta@llagosta.cat
X-WR-TIMEZONE:Europe/Madrid
DESCRIPTION:L'Ajuntament de la Llagosta obrirà diumenge el Centre Cultural per tal que tothom que vulgui pugui veure la final de l'Eurocopa en una pantalla gegant. El partit, en el qual Espanya aspira a revalidar el títol aconseguit ara fa quatre anys, començarà a les 20.45 hores. Mitja hora abans, ja es podrà accedir al Centre Cultural. L'aforament és limitat.
URI:https://www.llagosta.cat/actualitat/noticies/la-final-de-leurocopa-es-podra-veure-diumenge-en-pantalla-gegant-al-centre-cultural.html
CLASS:PUBLIC
END:VEVENT
END:VCALENDAR
