BEGIN:VCALENDAR
VERSION:2.0
CALSCALE:GREGORIAN
PRODID:-//Diputació de Barcelona//DibaCMS//EN
BEGIN:VEVENT
UID:5216
DTSTAMP:20260424T035621
DTSTART:20120628T000000
DTEND:20130628T000000
SUMMARY:Veus de Dona farà demà al Centre Cultural el seu festival de fi de curs
LOCATION:
METHOD:PUBLISH
X-WR-CALNAME:llagosta@llagosta.cat
X-WR-TIMEZONE:Europe/Madrid
DESCRIPTION:L'associació Veus de Dona organitza demà el festival de fi de curs del taller de dansa del ventre. L'acte, que forma part del programa Estiu 2012, es farà al Centre Cultural i començarà a dos quarts de nou del vespre.
URI:https://www.llagosta.cat/actualitat/noticies/veus-de-dona-fara-dema-al-centre-cultural-el-seu-festival-de-fi-de-curs.html
CLASS:PUBLIC
END:VEVENT
END:VCALENDAR
