BEGIN:VCALENDAR
VERSION:2.0
CALSCALE:GREGORIAN
PRODID:-//Diputació de Barcelona//DibaCMS//EN
BEGIN:VEVENT
UID:5215
DTSTAMP:20260424T004646
DTSTART:20120628T000000
DTEND:20130628T000000
SUMMARY:Estela García participarà el cap de setmana en el Campionat d'Espanya Infantil
LOCATION:
METHOD:PUBLISH
X-WR-CALNAME:llagosta@llagosta.cat
X-WR-TIMEZONE:Europe/Madrid
DESCRIPTION:La veïna de la Llagosta Estela García participarà entre demà i diumenge en el Campionat d'Espanya Infantil d'estiu de natació sincronitzada, que se celebrarà a Castelló. García prendrà part en dues proves per equips, la de combo i la d'equip, i en una individual, la de figures. 
URI:https://www.llagosta.cat/actualitat/noticies/estela-garcia-participara-el-cap-de-setmana-en-el-campionat-despanya-infantil.html
CLASS:PUBLIC
END:VEVENT
END:VCALENDAR
