BEGIN:VCALENDAR
VERSION:2.0
CALSCALE:GREGORIAN
PRODID:-//Diputació de Barcelona//DibaCMS//EN
BEGIN:VEVENT
UID:5214
DTSTAMP:20260424T091213
DTSTART:20120628T000000
DTEND:20130628T000000
SUMMARY:La Room organitzarà demà un flashmob a la Llagosta amb uns 150 participants
LOCATION:
METHOD:PUBLISH
X-WR-CALNAME:llagosta@llagosta.cat
X-WR-TIMEZONE:Europe/Madrid
DESCRIPTION:Unes 150 persones participaran demà en el flashmob que organitzarà l'escola de dansa La Room de la Llagosta a la nostra localitat. L'acció tindrà lloc al carrer de l'Estació a partir de dos quarts de vuit de la tarda i constarà de dues coreografies. 
URI:https://www.llagosta.cat/actualitat/noticies/la-room-organitzara-dema-un-flashmob-a-la-llagosta-amb-uns-150-participants.html
CLASS:PUBLIC
END:VEVENT
END:VCALENDAR
