BEGIN:VCALENDAR
VERSION:2.0
CALSCALE:GREGORIAN
PRODID:-//Diputació de Barcelona//DibaCMS//EN
BEGIN:VEVENT
UID:5213
DTSTAMP:20260424T075517
DTSTART:20120627T000000
DTEND:20130627T000000
SUMMARY:L'Ajuntament signa un acord amb Bon Preu per cedir aliments a famílies necessitades
LOCATION:
METHOD:PUBLISH
X-WR-CALNAME:llagosta@llagosta.cat
X-WR-TIMEZONE:Europe/Madrid
DESCRIPTION:L'Ajuntament de la Llagosta i l'empresa Bon Preu han signat avui un conveni de col·laboració pel qual la cadena de supermercats, a la qual pertany l'Esclat del barri perpetuenc de la Florida, cedirà aliments i productes frescos envasats per a famílies necessitades de la nostra població.
URI:https://www.llagosta.cat/actualitat/noticies/lajuntament-signa-un-acord-amb-bon-preu-per-cedir-aliments-a-families-necessitades.html
CLASS:PUBLIC
END:VEVENT
END:VCALENDAR
