BEGIN:VCALENDAR
VERSION:2.0
CALSCALE:GREGORIAN
PRODID:-//Diputació de Barcelona//DibaCMS//EN
BEGIN:VEVENT
UID:5212
DTSTAMP:20260423T153157
DTSTART:20120627T000000
DTEND:20130627T000000
SUMMARY:Demà, tercer concert a la fresca de La Llagosta + Activa al Parc Popular
LOCATION:
METHOD:PUBLISH
X-WR-CALNAME:llagosta@llagosta.cat
X-WR-TIMEZONE:Europe/Madrid
DESCRIPTION:Demà tindrà lloc el tercer concert a la fresca organitzat pel col·lectiu La Llagosta + Activa. El recital es farà a les vuit del vespre al Parc Popular, darrere de l'ambulatori. En aquesta ocasió, el concert estarà protagonitzat pel grup Soul Sister Trio, tres noies, una d'elles veïna de la Llagosta, que interpreten música dels anys seixanta i setanta i peces més actuals. Piano, violí i bateria elèctrica són els instruments d'aquesta formació musical. 
URI:https://www.llagosta.cat/actualitat/noticies/dema-tercer-concert-a-la-fresca-de-la-llagosta--activa-al-parc-popular.html
CLASS:PUBLIC
END:VEVENT
END:VCALENDAR
