BEGIN:VCALENDAR
VERSION:2.0
CALSCALE:GREGORIAN
PRODID:-//Diputació de Barcelona//DibaCMS//EN
BEGIN:VEVENT
UID:5211
DTSTAMP:20260423T173030
DTSTART:20120627T000000
DTEND:20130627T000000
SUMMARY:Pedro Valero no seguirà com a entrenador del Viejas Glorias la propera temporada
LOCATION:
METHOD:PUBLISH
X-WR-CALNAME:llagosta@llagosta.cat
X-WR-TIMEZONE:Europe/Madrid
DESCRIPTION:Pedro Valero ha deixat de ser l'entrenador del Club Deportivo Viejas Glorias. Després de deu anys, el tècnic ha decidit plegar per descansar, encara que, en principi, continuarà vinculat a l'entitat. La directiva intenta ara trobar un altre entrenador, però, de moment, no ha concretat res. 
URI:https://www.llagosta.cat/actualitat/noticies/pedro-valero-no-seguira-com-a-entrenador-del-viejas-glorias-la-propera-temporada.html
CLASS:PUBLIC
END:VEVENT
END:VCALENDAR
