BEGIN:VCALENDAR
VERSION:2.0
CALSCALE:GREGORIAN
PRODID:-//Diputació de Barcelona//DibaCMS//EN
BEGIN:VEVENT
UID:5210
DTSTAMP:20260423T134822
DTSTART:20120627T000000
DTEND:20130627T000000
SUMMARY:L'equip del Síndic de Greuges de Catalunya vindrà el dia 12 de juliol a la Llagosta
LOCATION:
METHOD:PUBLISH
X-WR-CALNAME:llagosta@llagosta.cat
X-WR-TIMEZONE:Europe/Madrid
DESCRIPTION:L'equip del Síndic de Greuges de Catalunya vindrà el 12 de juliol a la Llagosta per atendre les consultes o queixes que vulguin formular els veïns de la nostra localitat. Les visites s'atendran a l'Escola Joan Maragall.
URI:https://www.llagosta.cat/actualitat/noticies/lequip-del-sindic-de-greuges-de-catalunya-vindra-el-dia-12-de-juliol-a-la-llagosta.html
CLASS:PUBLIC
END:VEVENT
END:VCALENDAR
