BEGIN:VCALENDAR
VERSION:2.0
CALSCALE:GREGORIAN
PRODID:-//Diputació de Barcelona//DibaCMS//EN
BEGIN:VEVENT
UID:5209
DTSTAMP:20260423T224506
DTSTART:20120627T000000
DTEND:20130627T000000
SUMMARY:L'Ajuntament de la Llagosta dona una sèrie de consells per prevenir els efectes de la calor
LOCATION:
METHOD:PUBLISH
X-WR-CALNAME:llagosta@llagosta.cat
X-WR-TIMEZONE:Europe/Madrid
DESCRIPTION:L'Ajuntament de la Llagosta dóna una serie de consells davant de l'augment de les temperatures que es pugui produir durant aquests dies. Les recomanacions van adreçades bàsicament a gent gran i nens, que són els principals col·lectius de risc.
URI:https://www.llagosta.cat/actualitat/noticies/lajuntament-de-la-llagosta-dona-una-serie-de-consells-per-prevenir-els-efectes-de-la-calor.html
CLASS:PUBLIC
END:VEVENT
END:VCALENDAR
