BEGIN:VCALENDAR
VERSION:2.0
CALSCALE:GREGORIAN
PRODID:-//Diputació de Barcelona//DibaCMS//EN
BEGIN:VEVENT
UID:5208
DTSTAMP:20260424T003115
DTSTART:20120626T000000
DTEND:20130626T000000
SUMMARY:Es manté oberta la inscripció per al torneig de 24 hores del FS Unión Llagostense
LOCATION:
METHOD:PUBLISH
X-WR-CALNAME:llagosta@llagosta.cat
X-WR-TIMEZONE:Europe/Madrid
DESCRIPTION:El Fútbol Sala Unión Llagostense manté oberta durant aquesta setmana la inscripció per participar al torneig de 24 hores que organitza aquest estiu. La intenció del club és arribar als dotze equips per assegurar uns mínims a la competició.
URI:https://www.llagosta.cat/actualitat/noticies/es-mante-oberta-la-inscripcio-per-al-torneig-de-24-hores-del-fs-union-llagostense.html
CLASS:PUBLIC
END:VEVENT
END:VCALENDAR
