BEGIN:VCALENDAR
VERSION:2.0
CALSCALE:GREGORIAN
PRODID:-//Diputació de Barcelona//DibaCMS//EN
BEGIN:VEVENT
UID:5207
DTSTAMP:20260423T171147
DTSTART:20120626T000000
DTEND:20130626T000000
SUMMARY:Mireia Egea (CiU) anuncia que deixa la dedicació exclusiva a l'Ajuntament de la Llagosta
LOCATION:
METHOD:PUBLISH
X-WR-CALNAME:llagosta@llagosta.cat
X-WR-TIMEZONE:Europe/Madrid
DESCRIPTION:Mireia Egea, edil de Convergència i Unió a l'Ajuntament de la Llagosta i responsable de les regidories d'Educació, Infància i Salut Pública, va anunciar ahir públicament que, a partir de l'1 de juliol, deixarà la dedicació exclusiva. Egea, juntament amb el regidor d'Iniciativa–Esquerra Unida Jordi Alonso i l'alcalde, Alberto López, són els edils que estan alliberats al Consistori llagostenc.
URI:https://www.llagosta.cat/actualitat/noticies/mireia-egea-ciu-anuncia-que-deixa-la-dedicacio-exclusiva-a-lajuntament-de-la-llagosta.html
CLASS:PUBLIC
END:VEVENT
END:VCALENDAR
