BEGIN:VCALENDAR
VERSION:2.0
CALSCALE:GREGORIAN
PRODID:-//Diputació de Barcelona//DibaCMS//EN
BEGIN:VEVENT
UID:5206
DTSTAMP:20260423T134226
DTSTART:20120626T000000
DTEND:20130626T000000
SUMMARY:Només tres positius en una nova campanya de control d'alcoholèmia a la Llagosta
LOCATION:
METHOD:PUBLISH
X-WR-CALNAME:llagosta@llagosta.cat
X-WR-TIMEZONE:Europe/Madrid
DESCRIPTION:La nova campanya de control d'alcoholèmia promoguda pel Servei Català de Trànsit i realitzada per la Policia Local de la Llagosta s'ha saldat amb tres positius de les 110 proves realitzades. La campanya es va realitzar del 18 al 24 de juny.
URI:https://www.llagosta.cat/actualitat/noticies/nomes-tres-positius-en-una-nova-campanya-de-control-dalcoholemia-a-la-llagosta.html
CLASS:PUBLIC
END:VEVENT
END:VCALENDAR
