BEGIN:VCALENDAR
VERSION:2.0
CALSCALE:GREGORIAN
PRODID:-//Diputació de Barcelona//DibaCMS//EN
BEGIN:VEVENT
UID:5205
DTSTAMP:20260423T103817
DTSTART:20120626T000000
DTEND:20130626T000000
SUMMARY:Antonio García fitxa pel Paris i es concentra amb la selecció espanyola a Andorra
LOCATION:
METHOD:PUBLISH
X-WR-CALNAME:llagosta@llagosta.cat
X-WR-TIMEZONE:Europe/Madrid
DESCRIPTION:El llagostenc Antonio García ha fitxat pel Paris per dues temporades. El Paris era fins ara un equip modest de la lliga francesa, però, amb l'arribada d'un nou propietari, que també és el dirigent del Paris Sant Germain de futbol, s'inicia un projecte molt ambiciós. 
URI:https://www.llagosta.cat/actualitat/noticies/antonio-garcia-fitxa-pel-paris-i-es-concentra-amb-la-seleccio-espanyola-a-andorra.html
CLASS:PUBLIC
END:VEVENT
END:VCALENDAR
