BEGIN:VCALENDAR
VERSION:2.0
CALSCALE:GREGORIAN
PRODID:-//Diputació de Barcelona//DibaCMS//EN
BEGIN:VEVENT
UID:5204
DTSTAMP:20260424T020308
DTSTART:20120625T000000
DTEND:20130625T000000
SUMMARY:Obert el procés d'inscripcions per al Casal Infantil per a la propera temporada
LOCATION:
METHOD:PUBLISH
X-WR-CALNAME:llagosta@llagosta.cat
X-WR-TIMEZONE:Europe/Madrid
DESCRIPTION:El Casal Infantil de l'Ajuntament de la Llagosta ha obert avui el procés d’inscripcions per al proper curs. Aquests dies, els nens que vulguin assistir al centre poden fer aquest tràmit dirigint-se a l'Oficina d'Atenció a la Ciutadania (OAC). 
URI:https://www.llagosta.cat/actualitat/noticies/obert-el-proces-dinscripcions-per-al-casal-infantil-per-a-la-propera-temporada.html
CLASS:PUBLIC
END:VEVENT
END:VCALENDAR
