BEGIN:VCALENDAR
VERSION:2.0
CALSCALE:GREGORIAN
PRODID:-//Diputació de Barcelona//DibaCMS//EN
BEGIN:VEVENT
UID:5203
DTSTAMP:20260424T020233
DTSTART:20120625T000000
DTEND:20130625T000000
SUMMARY:L'Escola Municipal de Música inicia el període de matriculació per al proper curs
LOCATION:
METHOD:PUBLISH
X-WR-CALNAME:llagosta@llagosta.cat
X-WR-TIMEZONE:Europe/Madrid
DESCRIPTION:Avui comença el període de matriculació per al curs 2012-2013 a l'Escola Municipal de Música de la Llagosta. Els interessats s'han d'adreçar al Centre Cultural i Juvenil Can Pelegrí, que és on està la seu del centre, de cinc a vuit de la tarda.
URI:https://www.llagosta.cat/actualitat/noticies/lescola-municipal-de-musica-inicia-el-periode-de-matriculacio-per-al-proper-curs.html
CLASS:PUBLIC
END:VEVENT
END:VCALENDAR
