BEGIN:VCALENDAR
VERSION:2.0
CALSCALE:GREGORIAN
PRODID:-//Diputació de Barcelona//DibaCMS//EN
BEGIN:VEVENT
UID:5202
DTSTAMP:20260423T120144
DTSTART:20120625T000000
DTEND:20130625T000000
SUMMARY:La celebració de la revetlla de Sant Joan va ser força tranquil·la a la Llagosta
LOCATION:
METHOD:PUBLISH
X-WR-CALNAME:llagosta@llagosta.cat
X-WR-TIMEZONE:Europe/Madrid
DESCRIPTION:La revetlla de Sant Joan va transcórrer a la Llagosta amb tranquil·litat i sense cap incident remarcable. Aquesta ha estat una celebració marcada per les festes familiars organitzades als carrers i places del nostre municipi. La revetlla popular que el Grup la Feria va realitzar a la carpa de l'Institut Marina no va aplegar tanta gent com s'esperava.
URI:https://www.llagosta.cat/actualitat/noticies/la-celebracio-de-la-revetlla-de-sant-joan-va-ser-forca-tranquilla-a-la-llagosta.html
CLASS:PUBLIC
END:VEVENT
END:VCALENDAR
