BEGIN:VCALENDAR
VERSION:2.0
CALSCALE:GREGORIAN
PRODID:-//Diputació de Barcelona//DibaCMS//EN
BEGIN:VEVENT
UID:5201
DTSTAMP:20260423T060942
DTSTART:20120622T000000
DTEND:20130622T000000
SUMMARY:L'Escola Municipal de Música va tancar ahir el curs amb un concert al Centre Cultural
LOCATION:
METHOD:PUBLISH
X-WR-CALNAME:llagosta@llagosta.cat
X-WR-TIMEZONE:Europe/Madrid
DESCRIPTION:El Centre Cultural va acollir ahir el concert de fi de curs de l'Escola Municipal de Música de la Llagosta, que va comptar amb l'actuació dels alumnes del centre. El públic assistent va poder gaudir d'interpretacions individuals i col·lectives. Al final, cada estudiant va rebre un diploma. 
URI:https://www.llagosta.cat/actualitat/noticies/lescola-municipal-de-musica-va-tancar-ahir-el-curs-amb-un-concert-al-centre-cultural.html
CLASS:PUBLIC
END:VEVENT
END:VCALENDAR
