BEGIN:VCALENDAR
VERSION:2.0
CALSCALE:GREGORIAN
PRODID:-//Diputació de Barcelona//DibaCMS//EN
BEGIN:VEVENT
UID:5200
DTSTAMP:20260423T080652
DTSTART:20120622T000000
DTEND:20130622T000000
SUMMARY:Dispositiu especial de la Policia Local i de Protecció Civil, durant la revetlla de Sant Joan
LOCATION:
METHOD:PUBLISH
X-WR-CALNAME:llagosta@llagosta.cat
X-WR-TIMEZONE:Europe/Madrid
DESCRIPTION:Durant la Nit de Sant Joan, tant la Policia Local com l'Associació de Voluntaris de Protecció Civil de la Llagosta muntaran un dispositiu especial per prevenir possibles accidents. Protecció Civil patrullarà amb quatre efectius, que se sumen a la seixantena de voluntaris de la Coordinadora de Protecció Civil del Vallès.
URI:https://www.llagosta.cat/actualitat/noticies/dispositiu-especial-de-la-policia-local-i-de-proteccio-civil-durant-la-revetlla-de-sant-joan.html
CLASS:PUBLIC
END:VEVENT
END:VCALENDAR
