BEGIN:VCALENDAR
VERSION:2.0
CALSCALE:GREGORIAN
PRODID:-//Diputació de Barcelona//DibaCMS//EN
BEGIN:VEVENT
UID:5199
DTSTAMP:20260423T140914
DTSTART:20120622T000000
DTEND:20130622T000000
SUMMARY:La Llagosta celebrarà demà la revetlla de Sant Joan amb diverses festes
LOCATION:
METHOD:PUBLISH
X-WR-CALNAME:llagosta@llagosta.cat
X-WR-TIMEZONE:Europe/Madrid
DESCRIPTION:La Llagosta celebrarà demà a diversos carrers i places la revetlla de Sant Joan. A més, aquest any se suma a la festa la revetlla popular que organitzarà a la carpa de l'Institut Marina el Grup la Feria. Entitats i grups de veïns soparan i ballaran en la nit més màgica de l'any.
URI:https://www.llagosta.cat/actualitat/noticies/la-llagosta-celebrara-dema-la-revetlla-de-sant-joan-amb-diverses-festes.html
CLASS:PUBLIC
END:VEVENT
END:VCALENDAR
