BEGIN:VCALENDAR
VERSION:2.0
CALSCALE:GREGORIAN
PRODID:-//Diputació de Barcelona//DibaCMS//EN
BEGIN:VEVENT
UID:5198
DTSTAMP:20260423T035633
DTSTART:20120622T000000
DTEND:20130622T000000
SUMMARY:El ple de l'Ajuntament de la Llagosta va aprovar ahir definitivament el pressupost municipal
LOCATION:
METHOD:PUBLISH
X-WR-CALNAME:llagosta@llagosta.cat
X-WR-TIMEZONE:Europe/Madrid
DESCRIPTION:L'Ajuntament de la Llagosta va aprovar ahir de forma definitiva el pressupost municipal d'aquest any durant la celebració d'un ple extraordinari. El punt va comptar amb el vot a favor dels tres grups de l'equip de govern, Iniciativa-Esquerra Unida, Convergència i Ciutadans Progressistes. El PP també va votar a favor, mentre que el principal grup de l'oposició, el Partit dels Socialistes, ho va fer en contra.
URI:https://www.llagosta.cat/actualitat/noticies/el-ple-de-lajuntament-de-la-llagosta-va-aprovar-ahir-definitivament-el-pressupost-municipal.html
CLASS:PUBLIC
END:VEVENT
END:VCALENDAR
