BEGIN:VCALENDAR
VERSION:2.0
CALSCALE:GREGORIAN
PRODID:-//Diputació de Barcelona//DibaCMS//EN
BEGIN:VEVENT
UID:5197
DTSTAMP:20260423T061053
DTSTART:20120621T000000
DTEND:20130621T000000
SUMMARY:Javi Iglesias seguirà com a entrenador del conjunt sènior de l'Handbol Club Vallag
LOCATION:
METHOD:PUBLISH
X-WR-CALNAME:llagosta@llagosta.cat
X-WR-TIMEZONE:Europe/Madrid
DESCRIPTION:L'Handbol Club Vallag comptarà la propera temporada amb els mateixos entrenadors, Javi Iglesias, com a tècnic del sènior, i Pedro Iglesias seguirà entrenant el cadet. Els responsables de l'entitat també han decidit finalment crear un equip infantil.
URI:https://www.llagosta.cat/actualitat/noticies/javi-iglesias-seguira-com-a-entrenador-del-conjunt-senior-de-lhandbol-club-vallag.html
CLASS:PUBLIC
END:VEVENT
END:VCALENDAR
