BEGIN:VCALENDAR
VERSION:2.0
CALSCALE:GREGORIAN
PRODID:-//Diputació de Barcelona//DibaCMS//EN
BEGIN:VEVENT
UID:5196
DTSTAMP:20260423T035257
DTSTART:20120621T000000
DTEND:20130621T000000
SUMMARY:El Foto-Club La Llagosta organitza una exposició dels alumnes del curs de Photoshop
LOCATION:
METHOD:PUBLISH
X-WR-CALNAME:llagosta@llagosta.cat
X-WR-TIMEZONE:Europe/Madrid
DESCRIPTION:El Centre Cultural acull l'exposició dels alumnes del curs de Photoshop organitzat pel Foto-Club La Llagosta. La mostra es pot veure al vestíbul del centre des d'aquesta setmana i durant tot el mes de juliol.
URI:https://www.llagosta.cat/actualitat/noticies/el-foto-club-la-llagosta-organitza-una-exposicio-dels-alumnes-del-curs-de-photoshop.html
CLASS:PUBLIC
END:VEVENT
END:VCALENDAR
