BEGIN:VCALENDAR
VERSION:2.0
CALSCALE:GREGORIAN
PRODID:-//Diputació de Barcelona//DibaCMS//EN
BEGIN:VEVENT
UID:5195
DTSTAMP:20260424T033541
DTSTART:20120621T000000
DTEND:20130621T000000
SUMMARY:El Consistori llagostenc prepara una programació d'activitats d'estiu molt àmplia
LOCATION:
METHOD:PUBLISH
X-WR-CALNAME:llagosta@llagosta.cat
X-WR-TIMEZONE:Europe/Madrid
DESCRIPTION:L'Ajuntament de la Llagosta ha programat un ampli ventall d'activitats esportives, infantils i juvenils per a aquest estiu. Per primer cop, la programació es perllongarà durant els mesos de juny, juliol, agost i principis de setembre.
URI:https://www.llagosta.cat/actualitat/noticies/el-consistori-llagostenc-prepara-una-programacio-dactivitats-destiu-molt-amplia.html
CLASS:PUBLIC
END:VEVENT
END:VCALENDAR
