BEGIN:VCALENDAR
VERSION:2.0
CALSCALE:GREGORIAN
PRODID:-//Diputació de Barcelona//DibaCMS//EN
BEGIN:VEVENT
UID:5194
DTSTAMP:20260424T055352
DTSTART:20120621T000000
DTEND:20130621T000000
SUMMARY:Tres veïns de Montcada imputats per un furt ahir en un supermercat de la Llagosta
LOCATION:
METHOD:PUBLISH
X-WR-CALNAME:llagosta@llagosta.cat
X-WR-TIMEZONE:Europe/Madrid
DESCRIPTION:La Policia Local de la Llagosta va imputar ahir tres persones per un furt a un supermercat de l'avinguda de l'Onze de setembre. Els fets van succeir al voltant de les sis de tarda.
URI:https://www.llagosta.cat/actualitat/noticies/tres-veins-de-montcada-imputats-per-un-furt-ahir-en-un-supermercat-de-la-llagosta.html
CLASS:PUBLIC
END:VEVENT
END:VCALENDAR
