BEGIN:VCALENDAR
VERSION:2.0
CALSCALE:GREGORIAN
PRODID:-//Diputació de Barcelona//DibaCMS//EN
BEGIN:VEVENT
UID:5192
DTSTAMP:20260424T001809
DTSTART:20120620T000000
DTEND:20130620T000000
SUMMARY:Alumnes de 4t d'ESO de l'Institut Marina expliquen contes a estudiants de P5 del Joan Maragall
LOCATION:
METHOD:PUBLISH
X-WR-CALNAME:llagosta@llagosta.cat
X-WR-TIMEZONE:Europe/Madrid
DESCRIPTION:Els estudiants de quart d'ESO de l'Institut Marina de la Llagosta van muntar el 8 de juny un contacontes per als alumnes de P5 de l'Escola Joan Maragall. L'activitat va tenir lloc al pati de l'Institut Marina, on els infants van trobar muntats tres escenaris. En cadascun, un grup d'alumnes de quart d'ESO els explicava contes, que ells mateixos havien creat. L'experiència va ser molt enriquidora. Els alumnes de P5 van rebre com a record un llapis amb el cap d'un animal.  
URI:https://www.llagosta.cat/actualitat/noticies/alumnes-de-4t-deso-de-linstitut-marina-expliquen-contes-a-estudiants-de-p5-del-joan-maragall.html
CLASS:PUBLIC
END:VEVENT
END:VCALENDAR
