BEGIN:VCALENDAR
VERSION:2.0
CALSCALE:GREGORIAN
PRODID:-//Diputació de Barcelona//DibaCMS//EN
BEGIN:VEVENT
UID:5191
DTSTAMP:20260423T184717
DTSTART:20120620T000000
DTEND:20130620T000000
SUMMARY:El Parc Popular acollirà demà el segon concert organitzat per La Llagosta + Activa
LOCATION:
METHOD:PUBLISH
X-WR-CALNAME:llagosta@llagosta.cat
X-WR-TIMEZONE:Europe/Madrid
DESCRIPTION:El col·lectiu La Llagosta + Activa organitza demà un nou concert a la fresca. El recital es farà a les vuit del vespre al Parc Popular. En aquesta ocasió actuaran Electronic Live & DJ i el Colectivo los Vinilos de la Puebla.
URI:https://www.llagosta.cat/actualitat/noticies/el-parc-popular-acollira-dema-el-segon-concert-organitzat-per-la-llagosta--activa.html
CLASS:PUBLIC
END:VEVENT
END:VCALENDAR
