BEGIN:VCALENDAR
VERSION:2.0
CALSCALE:GREGORIAN
PRODID:-//Diputació de Barcelona//DibaCMS//EN
BEGIN:VEVENT
UID:5190
DTSTAMP:20260424T091742
DTSTART:20120620T000000
DTEND:20130620T000000
SUMMARY:L'Escola Municipal de Música de la Llagosta tanca demà el curs amb un recital
LOCATION:
METHOD:PUBLISH
X-WR-CALNAME:llagosta@llagosta.cat
X-WR-TIMEZONE:Europe/Madrid
DESCRIPTION:El Centre Cultural de la Llagosta acollirà demà el concert de fi de curs dels alumnes de l'Escola Municipal de Música de la Llagosta. L'actuació començarà a dos quarts de vuit del vespre.
URI:https://www.llagosta.cat/actualitat/noticies/lescola-municipal-de-musica-de-la-llagosta-tanca-dema-el-curs-amb-un-recital.html
CLASS:PUBLIC
END:VEVENT
END:VCALENDAR
