BEGIN:VCALENDAR
VERSION:2.0
CALSCALE:GREGORIAN
PRODID:-//Diputació de Barcelona//DibaCMS//EN
BEGIN:VEVENT
UID:5189
DTSTAMP:20260423T134003
DTSTART:20120620T000000
DTEND:20130620T000000
SUMMARY:El ple de l'Ajuntament aprovarà demà definitivament el pressupost municipal de 2012
LOCATION:
METHOD:PUBLISH
X-WR-CALNAME:llagosta@llagosta.cat
X-WR-TIMEZONE:Europe/Madrid
DESCRIPTION:L'Ajuntament de la Llagosta aprovarà demà, de forma definitiva, el pressupost municipal d'aquest any durant la celebració d'un ple extraordinari, que començarà a dos quarts de sis de la tarda. Durant la sessió, es resoldran les al·legacions presentades a l'aprovació inicial del pressupost, que va tenir lloc el 17 de maig.
URI:https://www.llagosta.cat/actualitat/noticies/el-ple-de-lajuntament-aprovara-dema-definitivament-el-pressupost-municipal-de-2012.html
CLASS:PUBLIC
END:VEVENT
END:VCALENDAR
