BEGIN:VCALENDAR
VERSION:2.0
CALSCALE:GREGORIAN
PRODID:-//Diputació de Barcelona//DibaCMS//EN
BEGIN:VEVENT
UID:5188
DTSTAMP:20260423T062316
DTSTART:20120620T000000
DTEND:20130620T000000
SUMMARY:El Servei de Recerca d'Ocupació Local obrirà demà en la seva nova ubicació
LOCATION:
METHOD:PUBLISH
X-WR-CALNAME:llagosta@llagosta.cat
X-WR-TIMEZONE:Europe/Madrid
DESCRIPTION:El Servei de Recerca d'Ocupació Local de l'Ajuntament de la Llagosta atendrà, a partir de demà, a la seva nova ubicació, la planta baixa de l'edifici de serveis administratius del passeig del Pintor Sert. L'horari d'atenció serà de dilluns a divendres al matí, de nou a dues, i de dilluns a dijous a la tarda, de dos quarts de cinc a sis. A la tarda, es produeix una variació, ja que, fins ara, el servei obria de dos quarts de quatre a cinc.
URI:https://www.llagosta.cat/actualitat/noticies/el-servei-de-recerca-docupacio-local-obrira-dema-en-la-seva-nova-ubicacio.html
CLASS:PUBLIC
END:VEVENT
END:VCALENDAR
