BEGIN:VCALENDAR
VERSION:2.0
CALSCALE:GREGORIAN
PRODID:-//Diputació de Barcelona//DibaCMS//EN
BEGIN:VEVENT
UID:5187
DTSTAMP:20260423T120017
DTSTART:20120620T000000
DTEND:20130620T000000
SUMMARY:L'Ajuntament tanca provisionalment les minideixalleries per evitar danys durant les revetlles
LOCATION:
METHOD:PUBLISH
X-WR-CALNAME:llagosta@llagosta.cat
X-WR-TIMEZONE:Europe/Madrid
DESCRIPTION:Les cinc minideixalleries instal·lades a diferents indrets del nucli urbà de la Llagosta romandran tancades durant les properes dues setmanes, coincidint amb les revetlles de Sant Joan i Sant Pere, per tal de garantir la integritat d'aquests elements de la via pública i reduir el risc de desperfectes per vandalisme. 
URI:https://www.llagosta.cat/actualitat/noticies/lajuntament-tanca-provisionalment-les-minideixalleries-per-evitar-danys-durant-les-revetlles.html
CLASS:PUBLIC
END:VEVENT
END:VCALENDAR
