BEGIN:VCALENDAR
VERSION:2.0
CALSCALE:GREGORIAN
PRODID:-//Diputació de Barcelona//DibaCMS//EN
BEGIN:VEVENT
UID:5186
DTSTAMP:20260423T133939
DTSTART:20120619T000000
DTEND:20130619T000000
SUMMARY:El primer tinent d'alcalde, Jordi Alonso, assumeix la Regidoria de Recursos Humans
LOCATION:
METHOD:PUBLISH
X-WR-CALNAME:llagosta@llagosta.cat
X-WR-TIMEZONE:Europe/Madrid
DESCRIPTION:El primer tinent d'alcalde de l'Ajuntament de la Llagosta, Jordi Alonso, és el nou regidor de Recursos Humans. L'alcalde, Alberto López, ha delegat aquestes funcions que fins ara depenien d'ell directament.
URI:https://www.llagosta.cat/actualitat/noticies/el-primer-tinent-dalcalde-jordi-alonso-assumeix-la-regidoria-de-recursos-humans.html
CLASS:PUBLIC
END:VEVENT
END:VCALENDAR
