BEGIN:VCALENDAR
VERSION:2.0
CALSCALE:GREGORIAN
PRODID:-//Diputació de Barcelona//DibaCMS//EN
BEGIN:VEVENT
UID:5185
DTSTAMP:20260423T043153
DTSTART:20120619T000000
DTEND:20130619T000000
SUMMARY:L'alcalde de la Llagosta, Alberto López, molt satisfet amb el primer any de mandat
LOCATION:
METHOD:PUBLISH
X-WR-CALNAME:llagosta@llagosta.cat
X-WR-TIMEZONE:Europe/Madrid
DESCRIPTION:L'alcalde de la Llagosta, Alberto López, ha fet un balanç positiu del primer any de mandat. En una entrevista que emet avui Ràdio La Llagosta, López ha qualificat com a molt enriquidora la relació entre els tres grups de l'equip de govern municipal i ha destacat la recerca de més ingressos en contraposició a les retallades que estan aplicant altres administracions.
URI:https://www.llagosta.cat/actualitat/noticies/lalcalde-de-la-llagosta-alberto-lopez-molt-satisfet-amb-el-primer-any-de-mandat.html
CLASS:PUBLIC
END:VEVENT
END:VCALENDAR
